BEGIN:VCALENDAR
VERSION:2.0
PRODID:-//ChamberMaster//Event Calendar 2.0//EN
METHOD:PUBLISH
X-PUBLISHED-TTL:P3D
REFRESH-INTERVAL:P3D
CALSCALE:GREGORIAN
BEGIN:VEVENT
DTSTART:20210211T213000Z
DTEND:20210211T223000Z
X-MICROSOFT-CDO-ALLDAYEVENT:FALSE
SUMMARY:Mini Painters Acrylic Session: Kissy Fishy
DESCRIPTION:Step-by-step instructions will be demonstrated in this whimsical Valentine-themed painting for kids. All supplies included. Bring your friend or parent to make a matching canvas. Instructor Rio Davies Thursday\, February 11th 4:30 pm   5:30 pm Ages 5   15 $30 Supplies Included
X-ALT-DESC;FMTTYPE=text/html:Step-by-step instructions will be demonstrated in this whimsical Valentine-themed painting for kids. All supplies included. Bring your friend or parent to make a matching canvas. Instructor Rio Davies Thursday\, February 11th 4:30 pm &ndash\; 5:30 pm Ages 5 &ndash\; 15 $30 Supplies Included
LOCATION:Colquitt County Arts Center 401 7th Avenue S.W. Moultrie\, GA 31768
UID:e.570.11286
SEQUENCE:3
DTSTAMP:20260424T124342Z
URL:http://business.moultriechamber.com/events/details/mini-painters-acrylic-session-kissy-fishy-11286
END:VEVENT

END:VCALENDAR
