BEGIN:VCALENDAR
VERSION:2.0
PRODID:-//ChamberMaster//Event Calendar 2.0//EN
METHOD:PUBLISH
X-PUBLISHED-TTL:P3D
REFRESH-INTERVAL:P3D
CALSCALE:GREGORIAN
BEGIN:VEVENT
DTSTART:20210706T150000Z
DTEND:20210706T160000Z
X-MICROSOFT-CDO-ALLDAYEVENT:FALSE
SUMMARY:Mickey & Minnie Mouse
DESCRIPTION:Come visit with Mickey and Minnie
X-ALT-DESC;FMTTYPE=text/html:Come visit with Mickey and Minnie
LOCATION:Main Street Park
UID:e.570.11442
SEQUENCE:3
DTSTAMP:20260424T065501Z
URL:http://business.moultriechamber.com/events/details/mickey-minnie-mouse-11442
END:VEVENT

END:VCALENDAR
