BEGIN:VCALENDAR
VERSION:2.0
PRODID:-//ChamberMaster//Event Calendar 2.0//EN
METHOD:PUBLISH
X-PUBLISHED-TTL:P3D
REFRESH-INTERVAL:P3D
CALSCALE:GREGORIAN
BEGIN:VEVENT
DTSTART:20210608T140000Z
DTEND:20210608T150000Z
X-MICROSOFT-CDO-ALLDAYEVENT:FALSE
SUMMARY:Michelle's Magic Poodles
DESCRIPTION:Come see these Poodles perform tricks\, dance and more!
X-ALT-DESC;FMTTYPE=text/html:Come see these Poodles perform tricks\, dance and more!
LOCATION:Main Street Park
UID:e.570.11433
SEQUENCE:3
DTSTAMP:20260424T075744Z
URL:http://business.moultriechamber.com/events/details/michelle-s-magic-poodles-11433
END:VEVENT

END:VCALENDAR
