BEGIN:VCALENDAR
VERSION:2.0
PRODID:-//ChamberMaster//Event Calendar 2.0//EN
METHOD:PUBLISH
X-PUBLISHED-TTL:P3D
REFRESH-INTERVAL:P3D
CALSCALE:GREGORIAN
BEGIN:VEVENT
DTSTART:20220617T140000Z
DTEND:20220617T150000Z
X-MICROSOFT-CDO-ALLDAYEVENT:FALSE
SUMMARY:Michell's Magical Poodles
DESCRIPTION:Join MCCPRA for Michelle's Magic Poodle show at Main Street Park.
X-ALT-DESC;FMTTYPE=text/html:Join MCCPRA for Michelle&#39\;s Magic Poodle show at Main Street Park.
LOCATION:Main Street Park
UID:e.570.12931
SEQUENCE:3
DTSTAMP:20260423T165718Z
URL:http://business.moultriechamber.com/events/details/michell-s-magical-poodles-12931
END:VEVENT

END:VCALENDAR
