BEGIN:VCALENDAR
VERSION:2.0
PRODID:-//ChamberMaster//Event Calendar 2.0//EN
METHOD:PUBLISH
X-PUBLISHED-TTL:P3D
REFRESH-INTERVAL:P3D
CALSCALE:GREGORIAN
BEGIN:VEVENT
DTSTART:20211114T230000Z
DTEND:20211115T010000Z
X-MICROSOFT-CDO-ALLDAYEVENT:FALSE
SUMMARY:Men's Dinner with Ott DeFoe
DESCRIPTION:First Baptist Church Moultrie\, First Baptist Church Norman Park\, and Mount Olive Baptist Church are co-hosting a men's dinner on Sunday\, November 14 at 6:00 p.m. at First Baptist Moultrie (400 S Main St.). Our guest speaker will be professional bass fisherman Ott DeFoe. Ott is the winner of the 2019 Bassmaster Classic\, the "Super Bowl of bass fishing" and he just concluded a very successful year on the Major League Fishing Bass Pro Tour\, including several tournament victories. Ott is a strong Christian who openly shares his faith. He and his family reside in Blaine\, TN\, where he is an active member at Lyons Creek Baptist Church. We will serve a good meal\, and door prizes will be given away. Tickets are $10. You can (register here) or purchase tickets at FBC Moultrie\, FBC Norman Park\, and Mount Olive Baptist Church. More information about Ott Defoe can be found on his website at www.ottdefoe.com.
X-ALT-DESC;FMTTYPE=text/html:First Baptist Church Moultrie\, First Baptist Church Norman Park\, and Mount Olive Baptist Church are co-hosting a men&rsquo\;s dinner on Sunday\, November 14 at 6:00 p.m. at First Baptist Moultrie (400 S Main St.). Our guest speaker will be professional bass fisherman Ott DeFoe. Ott is the winner of the 2019 Bassmaster Classic\, the &ldquo\;Super Bowl of bass fishing&rdquo\; and he just concluded a very successful year on the Major League Fishing Bass Pro Tour\, including several tournament victories. Ott is a strong Christian who openly shares his faith. He and his family reside in Blaine\, TN\, where he is an active member at Lyons Creek Baptist Church. We will serve a good meal\, and door prizes will be given away. Tickets are $10. You can (register here) or purchase tickets at FBC Moultrie\, FBC Norman Park\, and Mount Olive Baptist Church. More information about Ott Defoe can be found on his website at www.ottdefoe.com.
LOCATION:First Baptist Church Moultrie 400 S Main St\, Moultrie\, GA 31768
UID:e.570.11965
SEQUENCE:3
DTSTAMP:20260424T014811Z
URL:http://business.moultriechamber.com/events/details/men-s-dinner-with-ott-defoe-11965
END:VEVENT

END:VCALENDAR
