BEGIN:VCALENDAR
VERSION:2.0
PRODID:-//ChamberMaster//Event Calendar 2.0//EN
METHOD:PUBLISH
X-PUBLISHED-TTL:P3D
REFRESH-INTERVAL:P3D
CALSCALE:GREGORIAN
BEGIN:VEVENT
DTSTART:20190504T130000Z
DTEND:20190504T180000Z
X-MICROSOFT-CDO-ALLDAYEVENT:FALSE
SUMMARY:Meigs Mennonite School Sale
DESCRIPTION:Bake sale BBQ Chicken Dinners Auction with many FINE Items- fine furniture\, outdoor wood & poly furniture\, HAND stiched quilts\, 10'x12' storage building\, play house Childrens activities and rides MUCH MUCH MORE!!
X-ALT-DESC;FMTTYPE=text/html:Bake sale BBQ Chicken Dinners Auction with many FINE Items- fine furniture\, outdoor wood &amp\; poly furniture\, HAND stiched quilts\, 10&#39\;x12&#39\; storage building\, play house Childrens activities and rides MUCH MUCH MORE!!
LOCATION:1860 Big Creek Rd Meigs Ga 31765
UID:e.570.9546
SEQUENCE:3
DTSTAMP:20260425T153220Z
URL:http://business.moultriechamber.com/events/details/meigs-mennonite-school-sale-9546
END:VEVENT

END:VCALENDAR
