BEGIN:VCALENDAR
VERSION:2.0
PRODID:-//ChamberMaster//Event Calendar 2.0//EN
METHOD:PUBLISH
X-PUBLISHED-TTL:P3D
REFRESH-INTERVAL:P3D
CALSCALE:GREGORIAN
BEGIN:VEVENT
DTSTART:20201112T150000Z
DTEND:20201112T170000Z
X-MICROSOFT-CDO-ALLDAYEVENT:FALSE
SUMMARY:Meet The Gladiators
DESCRIPTION:If you are 55+ and would be interested in joining other active senior for games and activities\, community senior projects\, light exercise\, and great fellowship please join us Nov 12 10 am-12 pm at the Ryce Community Center to meet the Gladiators. Breakfast will be provided.
X-ALT-DESC;FMTTYPE=text/html:If you are 55+ and would be interested in joining other active senior for games and activities\, community senior projects\, light exercise\, and great fellowship please join us Nov 12 10 am-12 pm at the Ryce Community Center to meet the Gladiators. Breakfast will be provided.
LOCATION:Ryce Community Center
UID:e.570.11236
SEQUENCE:3
DTSTAMP:20260424T163612Z
URL:http://business.moultriechamber.com/events/details/meet-the-gladiators-11236
END:VEVENT

END:VCALENDAR
