BEGIN:VCALENDAR
VERSION:2.0
PRODID:-//ChamberMaster//Event Calendar 2.0//EN
METHOD:PUBLISH
X-PUBLISHED-TTL:P3D
REFRESH-INTERVAL:P3D
CALSCALE:GREGORIAN
BEGIN:VEVENT
DTSTART:20200208T110000Z
DTEND:20200208T170000Z
X-MICROSOFT-CDO-ALLDAYEVENT:FALSE
SUMMARY:MCCPRA Yard Sale
DESCRIPTION:Come out and shop with us at our MCCPRA Yard Sale! If your interested in having your own space you can rent a 10x10 space for $10.00. For more information please contact MCCPRA at 229-668-0028
X-ALT-DESC;FMTTYPE=text/html:Come out and shop with us at our MCCPRA Yard Sale! If your interested in having your own space you can rent a 10x10 space for $10.00. For more information please contact MCCPRA at 229-668-0028
LOCATION:Meredith Gym
UID:e.570.11122
SEQUENCE:3
DTSTAMP:20260425T040544Z
URL:http://business.moultriechamber.com/events/details/mccpra-yard-sale-11122
END:VEVENT

END:VCALENDAR
