BEGIN:VCALENDAR
VERSION:2.0
PRODID:-//ChamberMaster//Event Calendar 2.0//EN
METHOD:PUBLISH
X-PUBLISHED-TTL:P3D
REFRESH-INTERVAL:P3D
CALSCALE:GREGORIAN
BEGIN:VEVENT
DTSTART:20190624T160000Z
DTEND:20190624T160000Z
X-MICROSOFT-CDO-ALLDAYEVENT:FALSE
SUMMARY:MCCPRA Summer Tennis Lessons Session 3
DESCRIPTION:
X-ALT-DESC;FMTTYPE=text/html:
LOCATION:MCCPRA Tennis Courts
UID:e.570.9554
SEQUENCE:3
DTSTAMP:20260425T140825Z
URL:http://business.moultriechamber.com/events/details/mccpra-summer-tennis-lessons-session-3-9554
END:VEVENT

END:VCALENDAR
