BEGIN:VCALENDAR
VERSION:2.0
PRODID:-//ChamberMaster//Event Calendar 2.0//EN
METHOD:PUBLISH
X-PUBLISHED-TTL:P3D
REFRESH-INTERVAL:P3D
CALSCALE:GREGORIAN
BEGIN:VEVENT
DTSTART:20190610T160000Z
DTEND:20190610T160000Z
X-MICROSOFT-CDO-ALLDAYEVENT:FALSE
SUMMARY:MCCPRA Summer Tennis Lessons Session 2
DESCRIPTION:8:30 AM-9:00 AM 4-7 YEAR OLD BEGINNERS FEE $30 9:00 AM-10:00 AM 12 & UNDER BEGINNERS FEE $50 10:00 AM-11:00AM 18 & UNDER INTERMEDIATE & ADVANCED FEE $50
X-ALT-DESC;FMTTYPE=text/html:8:30 AM-9:00 AM 4-7 YEAR OLD BEGINNERS FEE $30 9:00 AM-10:00 AM 12 &amp\; UNDER BEGINNERS FEE $50 10:00 AM-11:00AM 18 &amp\; UNDER INTERMEDIATE &amp\; ADVANCED FEE $50
LOCATION:MCCPRA Tennis Courts
UID:e.570.9553
SEQUENCE:3
DTSTAMP:20260425T140826Z
URL:http://business.moultriechamber.com/events/details/mccpra-summer-tennis-lessons-session-2-9553
END:VEVENT

END:VCALENDAR
