BEGIN:VCALENDAR
VERSION:2.0
PRODID:-//ChamberMaster//Event Calendar 2.0//EN
METHOD:PUBLISH
X-PUBLISHED-TTL:P3D
REFRESH-INTERVAL:P3D
CALSCALE:GREGORIAN
BEGIN:VEVENT
DTSTART:20211106T130000Z
DTEND:20211106T160000Z
X-MICROSOFT-CDO-ALLDAYEVENT:FALSE
SUMMARY:MCCPRA's 3rd Annual Stocked Cart Race
DESCRIPTION:Saturday\, Nov. 6\, 2021 -Entry fee: Min $25.00 worth of food to be donated to the food bank -Bring decorations for your cart -Have at least 1 runner per team For more information or registration visit MCCPRA.com or call 229-668-0028 Registration begins at 9 AM Races begin at 10 AM *registration will be available on site *Prizes for: Fastest Cart Best decorated & Most food donated
X-ALT-DESC;FMTTYPE=text/html:Saturday\, Nov. 6\, 2021 -Entry fee: Min $25.00 worth of food to be donated to the food bank -Bring decorations for your cart -Have at least 1 runner per team For more information or registration visit MCCPRA.com or call 229-668-0028 Registration begins at 9 AM Races begin at 10 AM *registration will be available on site *Prizes for: Fastest Cart Best decorated &amp\; Most food donated
LOCATION:Moultrie Lowes
UID:e.570.11937
SEQUENCE:3
DTSTAMP:20260424T015112Z
URL:http://business.moultriechamber.com/events/details/mccpra-s-3rd-annual-stocked-cart-race-11937
END:VEVENT

END:VCALENDAR
