BEGIN:VCALENDAR
VERSION:2.0
PRODID:-//ChamberMaster//Event Calendar 2.0//EN
METHOD:PUBLISH
X-PUBLISHED-TTL:P3D
REFRESH-INTERVAL:P3D
CALSCALE:GREGORIAN
BEGIN:VEVENT
DTSTART:20210918T133000Z
DTEND:20210918T180000Z
X-MICROSOFT-CDO-ALLDAYEVENT:FALSE
SUMMARY:MCCPRA presents Touch-A-Truck & More
DESCRIPTION:MCCPRA presents Touch-A-Truck & More. Bring the kids & kids at heart out to Goff Complex on September 18th\,2021 from \n9:30AM-2PM to explore their favorite trucks and other vehicles. We will have quiet time from 9:30-10:30 for kids with noise sensitivity. Hope to see you there!
X-ALT-DESC;FMTTYPE=text/html:MCCPRA presents Touch-A-Truck &amp\; More. Bring the kids &amp\; kids at heart out to Goff Complex on September 18th\,2021 from \n9:30AM-2PM to explore their favorite trucks and other vehicles. We will have quiet time from 9:30-10:30 for kids with noise sensitivity. Hope to see you there!
LOCATION:Goff Complex
UID:e.570.11939
SEQUENCE:3
DTSTAMP:20260424T042845Z
URL:http://business.moultriechamber.com/events/details/mccpra-presents-touch-a-truck-more-11939
END:VEVENT

END:VCALENDAR
