BEGIN:VCALENDAR
VERSION:2.0
PRODID:-//ChamberMaster//Event Calendar 2.0//EN
METHOD:PUBLISH
X-PUBLISHED-TTL:P3D
REFRESH-INTERVAL:P3D
CALSCALE:GREGORIAN
BEGIN:VEVENT
DTSTART:20211212T200000Z
DTEND:20211212T220000Z
X-MICROSOFT-CDO-ALLDAYEVENT:FALSE
SUMMARY:MCCPRA Presents Santa in the Park
DESCRIPTION:Join us for cookies and cocoa and get your picture taken with Santa!! Fun Fun Fun... *If it rains we will move to Meredith Gym
X-ALT-DESC;FMTTYPE=text/html:Join us for cookies and cocoa and get your picture taken with Santa!! Fun Fun Fun... *If it rains we will move to Meredith Gym
LOCATION:Main Street Park
UID:e.570.11962
SEQUENCE:3
DTSTAMP:20260424T015129Z
URL:http://business.moultriechamber.com/events/details/mccpra-presents-santa-in-the-park-11962
END:VEVENT

END:VCALENDAR
