BEGIN:VCALENDAR
VERSION:2.0
PRODID:-//ChamberMaster//Event Calendar 2.0//EN
METHOD:PUBLISH
X-PUBLISHED-TTL:P3D
REFRESH-INTERVAL:P3D
CALSCALE:GREGORIAN
BEGIN:VEVENT
DTSTART:20211002T140000Z
DTEND:20211002T160000Z
X-MICROSOFT-CDO-ALLDAYEVENT:FALSE
SUMMARY:MCCPRA presents Floating Pumpkin Patch
DESCRIPTION:Tired of searching these soiled & mucky fields to find your ideal pumpkin? We are too and that is why we came up with a better way! You can actually hunt for your pumpkin in the pool this year!! Join us for MCCPRA's Floating Pumpkin Patch! Bring your swimsuit and a change of clothes\, jump in to the pool and find that perfect pumpkin from our floating patch. Staff will be available to help collect and dry pumpkins. Supplies will be available for decorating your pumpkin. Hope to see everyone there!!!
X-ALT-DESC;FMTTYPE=text/html:Tired of searching these soiled &amp\; mucky fields to find your ideal pumpkin? We are too and that is why we came up with a better way! You can actually hunt for your pumpkin in the pool this year!! Join us for MCCPRA&#39\;s Floating Pumpkin Patch! Bring your swimsuit and a change of clothes\, jump in to the pool and find that perfect pumpkin from our floating patch. Staff will be available to help collect and dry pumpkins. Supplies will be available for decorating your pumpkin. Hope to see everyone there!!!
LOCATION:SW Memorial Pool
UID:e.570.11946
SEQUENCE:3
DTSTAMP:20260424T031012Z
URL:http://business.moultriechamber.com/events/details/mccpra-presents-floating-pumpkin-patch-11946
END:VEVENT

END:VCALENDAR
