BEGIN:VCALENDAR
VERSION:2.0
PRODID:-//ChamberMaster//Event Calendar 2.0//EN
METHOD:PUBLISH
X-PUBLISHED-TTL:P3D
REFRESH-INTERVAL:P3D
CALSCALE:GREGORIAN
BEGIN:VEVENT
DTSTART:20211217T234500Z
DTEND:20211218T010000Z
X-MICROSOFT-CDO-ALLDAYEVENT:FALSE
SUMMARY:MCCPRA presents Flick on the Field
DESCRIPTION:Join us at the Goff Complex on December 17\, 2021 at dark to watch the Grinch. Bring your blankets and enjoy. *Concessions will be provided
X-ALT-DESC;FMTTYPE=text/html:Join us at the Goff Complex on December 17\, 2021 at dark to watch the Grinch. Bring your blankets and enjoy. *Concessions will be provided
LOCATION:Goff Complex
UID:e.570.11970
SEQUENCE:3
DTSTAMP:20260424T015132Z
URL:http://business.moultriechamber.com/events/details/mccpra-presents-flick-on-the-field-12-17-2021-11970
END:VEVENT

END:VCALENDAR
