BEGIN:VCALENDAR
VERSION:2.0
PRODID:-//ChamberMaster//Event Calendar 2.0//EN
METHOD:PUBLISH
X-PUBLISHED-TTL:P3D
REFRESH-INTERVAL:P3D
CALSCALE:GREGORIAN
BEGIN:VEVENT
DTSTART:20211015T234500Z
DTEND:20211016T020000Z
X-MICROSOFT-CDO-ALLDAYEVENT:FALSE
SUMMARY:MCCPRA presents Flick on the Field
DESCRIPTION:MCCPRA is excited for our FLICK ON THE FIELD!!!! This will be a free event held at Goff Complex on October 15\, 2021. Bring your family\, a blanket and pick your spot and get ready to watch Coco on the ball field. Concessions will be available for the event. We will see you there!!!
X-ALT-DESC;FMTTYPE=text/html:MCCPRA is excited for our FLICK ON THE FIELD!!!! This will be a free event held at Goff Complex on October 15\, 2021. Bring your family\, a blanket and pick your spot and get ready to watch Coco on the ball field. Concessions will be available for the event. We will see you there!!!
LOCATION:Goff Complex
UID:e.570.11949
SEQUENCE:3
DTSTAMP:20260424T031317Z
URL:http://business.moultriechamber.com/events/details/mccpra-presents-flick-on-the-field-11949
END:VEVENT

END:VCALENDAR
