BEGIN:VCALENDAR
VERSION:2.0
PRODID:-//ChamberMaster//Event Calendar 2.0//EN
METHOD:PUBLISH
X-PUBLISHED-TTL:P3D
REFRESH-INTERVAL:P3D
CALSCALE:GREGORIAN
BEGIN:VEVENT
DTSTART:20211221T150000Z
DTEND:20211221T170000Z
X-MICROSOFT-CDO-ALLDAYEVENT:FALSE
SUMMARY:MCCPRA Presents Cookie Decorating
DESCRIPTION:Come and join us at Main Street Park to decorate cookies at 10 AM. We have all the decorations you can think of\, all you have to do is show up see you there!
X-ALT-DESC;FMTTYPE=text/html:Come and join us at Main Street Park to decorate cookies at 10 AM. We have all the decorations you can think of\, all you have to do is show up see you there!
LOCATION:Main Street Park
UID:e.570.11961
SEQUENCE:3
DTSTAMP:20260424T014809Z
URL:http://business.moultriechamber.com/events/details/mccpra-presents-cookie-decorating-11961
END:VEVENT

END:VCALENDAR
