BEGIN:VCALENDAR
VERSION:2.0
PRODID:-//ChamberMaster//Event Calendar 2.0//EN
METHOD:PUBLISH
X-PUBLISHED-TTL:P3D
REFRESH-INTERVAL:P3D
CALSCALE:GREGORIAN
BEGIN:VEVENT
DTSTART:20211204T150000Z
DTEND:20211204T170000Z
X-MICROSOFT-CDO-ALLDAYEVENT:FALSE
SUMMARY:MCCPRA Present Swim with the Grinch
DESCRIPTION:Come on out to Swim with the Grinch on December 4\, 2021 at the SW Memorial Pool. There will be underwater tree lightning\, ornament decorating and much more creativity to see!
X-ALT-DESC;FMTTYPE=text/html:Come on out to Swim with the Grinch on December 4\, 2021 at the SW Memorial Pool. There will be underwater tree lightning\, ornament decorating and much more creativity to see!
LOCATION:SW Memorial Pool
UID:e.570.11960
SEQUENCE:3
DTSTAMP:20260424T003932Z
URL:http://business.moultriechamber.com/events/details/mccpra-present-swim-with-the-grinch-11960
END:VEVENT

END:VCALENDAR
