BEGIN:VCALENDAR
VERSION:2.0
PRODID:-//ChamberMaster//Event Calendar 2.0//EN
METHOD:PUBLISH
X-PUBLISHED-TTL:P3D
REFRESH-INTERVAL:P3D
CALSCALE:GREGORIAN
BEGIN:VEVENT
DTSTART:20201119T230000Z
DTEND:20201120T010000Z
X-MICROSOFT-CDO-ALLDAYEVENT:FALSE
SUMMARY:MCCPRA Pass\, Dribble\, Shoot
DESCRIPTION:Come out and join us for the Pass\, Dribble & Shoot Competition. This event is free. If you attend this event you will get a $10 off coupon for Basketball Registration\, and winners will receive a coupon for FREE Basketball Registration.
X-ALT-DESC;FMTTYPE=text/html:Come out and join us for the Pass\, Dribble &amp\; Shoot Competition. This event is free. If you attend this event you will get a $10 off coupon for Basketball Registration\, and winners will receive a coupon for FREE Basketball Registration.
LOCATION:Tommy Meredith Gym
UID:e.570.11249
SEQUENCE:3
DTSTAMP:20260424T163721Z
URL:http://business.moultriechamber.com/events/details/mccpra-pass-dribble-shoot-11-19-2020-11249
END:VEVENT

END:VCALENDAR
