BEGIN:VCALENDAR
VERSION:2.0
PRODID:-//ChamberMaster//Event Calendar 2.0//EN
METHOD:PUBLISH
X-PUBLISHED-TTL:P3D
REFRESH-INTERVAL:P3D
CALSCALE:GREGORIAN
BEGIN:VEVENT
DTSTART:20190824T170000Z
DTEND:20190824T200000Z
X-MICROSOFT-CDO-ALLDAYEVENT:FALSE
SUMMARY:MCCPRA Open House
DESCRIPTION:Come and see what we have coming up!
X-ALT-DESC;FMTTYPE=text/html:Come and see what we have coming up!
LOCATION:Shaw Gym
UID:e.570.9624
SEQUENCE:3
DTSTAMP:20260425T114638Z
URL:http://business.moultriechamber.com/events/details/mccpra-open-house-08-24-2019-9624
END:VEVENT

END:VCALENDAR
