BEGIN:VCALENDAR
VERSION:2.0
PRODID:-//ChamberMaster//Event Calendar 2.0//EN
METHOD:PUBLISH
X-PUBLISHED-TTL:P3D
REFRESH-INTERVAL:P3D
CALSCALE:GREGORIAN
BEGIN:VEVENT
DTSTART:20201218T210000Z
DTEND:20201219T020000Z
X-MICROSOFT-CDO-ALLDAYEVENT:FALSE
SUMMARY:MCCPRA Kids Night Out
DESCRIPTION:MCCPRA will be hosting Kids Night Out as part of our 5 Festive Days of Christmas. Let us entertain your kids while you are out doing last minute Christmas shopping! We will have games\, Christmas crafts\, music and pizza. This event will be at Meredith Gym on December 18th\, from 4-9PM. The cost will be $5.00.
X-ALT-DESC;FMTTYPE=text/html:MCCPRA will be hosting Kids Night Out as part of our 5 Festive Days of Christmas. Let us entertain your kids while you are out doing last minute Christmas shopping! We will have games\, Christmas crafts\, music and pizza. This event will be at Meredith Gym on December 18th\, from 4-9PM. The cost will be $5.00.
LOCATION:Tommy Meredith Gym
UID:e.570.11255
SEQUENCE:3
DTSTAMP:20260424T152223Z
URL:http://business.moultriechamber.com/events/details/mccpra-kids-night-out-12-18-2020-11255
END:VEVENT

END:VCALENDAR
