BEGIN:VCALENDAR
VERSION:2.0
PRODID:-//ChamberMaster//Event Calendar 2.0//EN
METHOD:PUBLISH
X-PUBLISHED-TTL:P3D
REFRESH-INTERVAL:P3D
CALSCALE:GREGORIAN
BEGIN:VEVENT
DTSTART:20191026T230000Z
DTEND:20191027T010000Z
X-MICROSOFT-CDO-ALLDAYEVENT:FALSE
SUMMARY:MCCPRA Flick on the Field
DESCRIPTION:MCCPRA is excited for our first ever FLICK ON THE FIELD. This will be a free event held at Goff Complex on October 26 at 7pm. Bring your family\, a blanket and pick your spot and get ready to watch a Halloween Movie on the ball field. Concessions will be available for the event.
X-ALT-DESC;FMTTYPE=text/html:MCCPRA is excited for our first ever FLICK ON THE FIELD. This will be a free event held at Goff Complex on October 26 at 7pm. Bring your family\, a blanket and pick your spot and get ready to watch a Halloween Movie on the ball field. Concessions will be available for the event.
LOCATION:Goff Complex
UID:e.570.9628
SEQUENCE:3
DTSTAMP:20260425T102845Z
URL:http://business.moultriechamber.com/events/details/mccpra-flick-on-the-field-9628
END:VEVENT

END:VCALENDAR
