BEGIN:VCALENDAR
VERSION:2.0
PRODID:-//ChamberMaster//Event Calendar 2.0//EN
METHOD:PUBLISH
X-PUBLISHED-TTL:P3D
REFRESH-INTERVAL:P3D
CALSCALE:GREGORIAN
BEGIN:VEVENT
DTSTART:20201212T230000Z
DTEND:20201213T010000Z
X-MICROSOFT-CDO-ALLDAYEVENT:FALSE
SUMMARY:MCCPRA Flick on the Field
DESCRIPTION:Bring some chairs and come join us on the ballfields as we roll out another film. This year we will be watching Elf! The movie will start at dark. Concessions will be sold.
X-ALT-DESC;FMTTYPE=text/html:Bring some chairs and come join us on the ballfields as we roll out another film. This year we will be watching Elf! The movie will start at dark. Concessions will be sold.
LOCATION:803 11th Ave SW Jim Buck Goff Sports Complex
UID:e.570.11253
SEQUENCE:3
DTSTAMP:20260424T152224Z
URL:http://business.moultriechamber.com/events/details/mccpra-flick-on-the-field-12-12-2020-11253
END:VEVENT

END:VCALENDAR
