BEGIN:VCALENDAR
VERSION:2.0
PRODID:-//ChamberMaster//Event Calendar 2.0//EN
METHOD:PUBLISH
X-PUBLISHED-TTL:P3D
REFRESH-INTERVAL:P3D
CALSCALE:GREGORIAN
BEGIN:VEVENT
DTSTART:20200620T120000Z
DTEND:20200620T150000Z
X-MICROSOFT-CDO-ALLDAYEVENT:FALSE
SUMMARY:MCCPRA Fishing Rodeo
DESCRIPTION:Sponsored by Larry's Bait & Tackle
X-ALT-DESC;FMTTYPE=text/html:Sponsored by Larry&#39\;s Bait &amp\; Tackle
LOCATION:Magnolia Pond
UID:e.570.11123
SEQUENCE:3
DTSTAMP:20260424T224848Z
URL:http://business.moultriechamber.com/events/details/mccpra-fishing-rodeo-11123
END:VEVENT

END:VCALENDAR
