BEGIN:VCALENDAR
VERSION:2.0
PRODID:-//ChamberMaster//Event Calendar 2.0//EN
METHOD:PUBLISH
X-PUBLISHED-TTL:P3D
REFRESH-INTERVAL:P3D
CALSCALE:GREGORIAN
BEGIN:VEVENT
DTSTART:20210327T140000Z
DTEND:20210327T160000Z
X-MICROSOFT-CDO-ALLDAYEVENT:FALSE
SUMMARY:MCCPRA Easter Egg Hunt
DESCRIPTION:Come join us at Main Street Park to see the Easter Bunny and help us find 3000 eggs!
X-ALT-DESC;FMTTYPE=text/html:Come join us at Main Street Park to see the Easter Bunny and help us find 3000 eggs!
LOCATION:Main Street Park
UID:e.570.11304
SEQUENCE:3
DTSTAMP:20260424T113003Z
URL:http://business.moultriechamber.com/events/details/mccpra-easter-egg-hunt-03-27-2021-11304
END:VEVENT

END:VCALENDAR
