BEGIN:VCALENDAR
VERSION:2.0
PRODID:-//ChamberMaster//Event Calendar 2.0//EN
METHOD:PUBLISH
X-PUBLISHED-TTL:P3D
REFRESH-INTERVAL:P3D
CALSCALE:GREGORIAN
BEGIN:VEVENT
DTSTART:20190518T120000Z
DTEND:20190518T150000Z
X-MICROSOFT-CDO-ALLDAYEVENT:FALSE
SUMMARY:MCCPRA Annual Fishing Rodeo
DESCRIPTION:
X-ALT-DESC;FMTTYPE=text/html:
LOCATION:Across from Walmart\, in the Magnolia Sports Complex.
UID:e.570.9521
SEQUENCE:3
DTSTAMP:20260425T153957Z
URL:http://business.moultriechamber.com/events/details/mccpra-annual-fishing-rodeo-9521
END:VEVENT

END:VCALENDAR
