BEGIN:VCALENDAR
VERSION:2.0
PRODID:-//ChamberMaster//Event Calendar 2.0//EN
METHOD:PUBLISH
X-PUBLISHED-TTL:P3D
REFRESH-INTERVAL:P3D
CALSCALE:GREGORIAN
BEGIN:VEVENT
DTSTART:20220506T220000Z
DTEND:20220508T030000Z
X-MICROSOFT-CDO-ALLDAYEVENT:FALSE
SUMMARY:Mayday Festival
DESCRIPTION:Mayday Festival hosted by the Doerun Boosters. BBQ Cookoff\, Arts & Craft Vendors\, Live Music and more!
X-ALT-DESC;FMTTYPE=text/html:Mayday Festival hosted by the Doerun Boosters. BBQ Cookoff\, Arts &amp\; Craft Vendors\, Live Music and more!
LOCATION:Doerun
UID:e.570.12923
SEQUENCE:3
DTSTAMP:20260423T181838Z
URL:http://business.moultriechamber.com/events/details/mayday-festival-12923
END:VEVENT

END:VCALENDAR
