BEGIN:VCALENDAR
VERSION:2.0
PRODID:-//ChamberMaster//Event Calendar 2.0//EN
METHOD:PUBLISH
X-PUBLISHED-TTL:P3D
REFRESH-INTERVAL:P3D
CALSCALE:GREGORIAN
BEGIN:VEVENT
DTSTART:20190509T220000Z
DTEND:20190510T000000Z
X-MICROSOFT-CDO-ALLDAYEVENT:FALSE
SUMMARY:May Door Hanger Workshop
DESCRIPTION:Thursday\, May 9th 6:00 pm   8:00 pm $30 Materials Included Adults and children 12 and up Welcome summer with a delicious pineapple shaped door hanger painted by you! To register\, visit our office or sign up online at: https://colquittcountyarts.com/monthly-workshop-registration/?rmcb=1552679360
X-ALT-DESC;FMTTYPE=text/html:Thursday\, May 9th 6:00 pm &ndash\; 8:00 pm $30 Materials Included Adults and children 12 and up Welcome summer with a delicious pineapple shaped door hanger painted by you! To register\, visit our office or sign up online at: https://colquittcountyarts.com/monthly-workshop-registration/?rmcb=1552679360
LOCATION:Colquitt County Arts Center 401 7th Ave. SW
UID:e.570.9532
SEQUENCE:3
DTSTAMP:20260425T152934Z
URL:http://business.moultriechamber.com/events/details/may-door-hanger-workshop-05-09-2019-9532
END:VEVENT

END:VCALENDAR
