BEGIN:VCALENDAR
VERSION:2.0
PRODID:-//ChamberMaster//Event Calendar 2.0//EN
METHOD:PUBLISH
X-PUBLISHED-TTL:P3D
REFRESH-INTERVAL:P3D
CALSCALE:GREGORIAN
BEGIN:VEVENT
DTSTART:20200227T223000Z
DTEND:20200228T000000Z
X-MICROSOFT-CDO-ALLDAYEVENT:FALSE
SUMMARY:MATILDA- Auditions
DESCRIPTION:Auditions for the stage play of Matilda- The Musical. The story of an extraordinary girl who\, armed with a vivid imagination and a sharp mind\, dares to take a stand and change her own destiny. Open to students K-12th grades. No previous stage experience necessary\,.
X-ALT-DESC;FMTTYPE=text/html:Auditions for the stage play of Matilda- The Musical. The story of an extraordinary girl who\, armed with a vivid imagination and a sharp mind\, dares to take a stand and change her own destiny. Open to students K-12th grades. No previous stage experience necessary\,.
LOCATION:Colquitt County Arts Center- Ballroom
UID:e.570.11134
SEQUENCE:3
DTSTAMP:20260425T040347Z
URL:http://business.moultriechamber.com/events/details/matilda-auditions-11134
END:VEVENT

END:VCALENDAR
