BEGIN:VCALENDAR
VERSION:2.0
PRODID:-//ChamberMaster//Event Calendar 2.0//EN
METHOD:PUBLISH
X-PUBLISHED-TTL:P3D
REFRESH-INTERVAL:P3D
CALSCALE:GREGORIAN
BEGIN:VEVENT
DTSTART:20190716T220000Z
DTEND:20190716T234500Z
X-MICROSOFT-CDO-ALLDAYEVENT:FALSE
SUMMARY:Managing Your Money: Part 2 - Bank Accounts
DESCRIPTION:Balancing your accounts and checkbook seem like old-fashioned tasks in the digital age\, however\, they are still vital parts of financial freedom. Banking skills help you manage your money\, find errors quickly\, and avoid unnecessary fees. Join the Moultrie Colquitt County Library and UGA Extension Learn the tips to help establish strong financial habits to empower yourself and insure your financial well-being.
X-ALT-DESC;FMTTYPE=text/html:Balancing your accounts and checkbook seem like old-fashioned tasks in the digital age\, however\, they are still vital parts of financial freedom. Banking skills help you manage your money\, find errors quickly\, and avoid unnecessary fees. Join the Moultrie Colquitt County Library and UGA Extension Learn the tips to help establish strong financial habits to empower yourself and insure your financial well-being.
LOCATION:Moultrie Colquitt County Library 205 5th St SE Moultrie\, GA 31768
UID:e.570.9578
SEQUENCE:3
DTSTAMP:20260425T141107Z
URL:http://business.moultriechamber.com/events/details/managing-your-money-part-2-bank-accounts-9578
END:VEVENT

END:VCALENDAR
