BEGIN:VCALENDAR
VERSION:2.0
PRODID:-//ChamberMaster//Event Calendar 2.0//EN
METHOD:PUBLISH
X-PUBLISHED-TTL:P3D
REFRESH-INTERVAL:P3D
CALSCALE:GREGORIAN
BEGIN:VEVENT
DTSTART:20240617T190000Z
DTEND:20240617T200000Z
X-MICROSOFT-CDO-ALLDAYEVENT:FALSE
SUMMARY:Mahealani's Adventures in Polynesai
DESCRIPTION:Learn drum dance from Tahiti\, poui balls from New Zealand\, hula from Hawaii\, plus a fun surprise from Somoa.
X-ALT-DESC;FMTTYPE=text/html:Learn drum dance from Tahiti\, poui balls from New Zealand\, hula from Hawaii\, plus a fun surprise from Somoa.
LOCATION:Moultrie-Colquitt County Library 204 5th St\, SE\, Moultrie\, GA
UID:e.570.13284
SEQUENCE:3
DTSTAMP:20260422T115535Z
URL:http://business.moultriechamber.com/events/details/mahealani-s-adventures-in-polynesai-13284
END:VEVENT

END:VCALENDAR
