BEGIN:VCALENDAR
VERSION:2.0
PRODID:-//ChamberMaster//Event Calendar 2.0//EN
METHOD:PUBLISH
X-PUBLISHED-TTL:P3D
REFRESH-INTERVAL:P3D
CALSCALE:GREGORIAN
BEGIN:VEVENT
DTSTART:20240607T143000Z
DTEND:20240607T153000Z
X-MICROSOFT-CDO-ALLDAYEVENT:FALSE
SUMMARY:Magic Tree House Club
DESCRIPTION:Bring Jack and Annie's adventures to life with activities based on the popular book series\, earning a stamp in your passport for each one you complete. Best for ages 4 and up.
X-ALT-DESC;FMTTYPE=text/html:Bring Jack and Annie&#39\;s adventures to life with activities based on the popular book series\, earning a stamp in your passport for each one you complete. Best for ages 4 and up.
LOCATION:Moultrie-Colquitt County Library 204 5th St\, SE\, Moultrie\, Ga 31768
UID:e.570.13271
SEQUENCE:3
DTSTAMP:20260422T115135Z
URL:http://business.moultriechamber.com/events/details/magic-tree-house-club-13271
END:VEVENT

END:VCALENDAR
