BEGIN:VCALENDAR
VERSION:2.0
PRODID:-//ChamberMaster//Event Calendar 2.0//EN
METHOD:PUBLISH
X-PUBLISHED-TTL:P3D
REFRESH-INTERVAL:P3D
CALSCALE:GREGORIAN
BEGIN:VEVENT
DTSTART:20220406T160000Z
DTEND:20220406T170000Z
X-MICROSOFT-CDO-ALLDAYEVENT:FALSE
SUMMARY:Lunchtime Yoga
DESCRIPTION:45 minutes of yin yoga for an energy boost at lunch time.
X-ALT-DESC;FMTTYPE=text/html:45 minutes of yin yoga for an energy boost at lunch time.
LOCATION:Indigo Studio 128 S. Main St.
UID:e.570.12099
SEQUENCE:3
DTSTAMP:20260423T204804Z
URL:http://business.moultriechamber.com/events/details/lunchtime-yoga-12099
END:VEVENT

END:VCALENDAR
