BEGIN:VCALENDAR
VERSION:2.0
PRODID:-//ChamberMaster//Event Calendar 2.0//EN
METHOD:PUBLISH
X-PUBLISHED-TTL:P3D
REFRESH-INTERVAL:P3D
CALSCALE:GREGORIAN
BEGIN:VEVENT
DTSTART:20210802T120000Z
DTEND:20210806T210000Z
X-MICROSOFT-CDO-ALLDAYEVENT:FALSE
SUMMARY:Live to Create Art Camp: Print and Design
DESCRIPTION:Learn to print and create fine art pieces with various design elements and patterns using mono and block printing techniques. Rising 3rd grade thru 6th grade Bring lunch and snack
X-ALT-DESC;FMTTYPE=text/html:Learn to print and create fine art pieces with various design elements and patterns using mono and block printing techniques. Rising 3rd grade thru 6th grade Bring lunch and snack
LOCATION:Colquitt County Arts Center 401 7th Avenue S.W. Moultrie\, GA 31768
UID:e.570.11364
SEQUENCE:3
DTSTAMP:20260424T055026Z
URL:http://business.moultriechamber.com/events/details/live-to-create-art-camp-print-and-design-11364
END:VEVENT

END:VCALENDAR
