BEGIN:VCALENDAR
VERSION:2.0
PRODID:-//ChamberMaster//Event Calendar 2.0//EN
METHOD:PUBLISH
X-PUBLISHED-TTL:P3D
REFRESH-INTERVAL:P3D
CALSCALE:GREGORIAN
BEGIN:VEVENT
DTSTART:20210614T120000Z
DTEND:20210618T210000Z
X-MICROSOFT-CDO-ALLDAYEVENT:FALSE
SUMMARY:Live to Create Art Camp: Paint the Town
DESCRIPTION:Dive into the world of color theory and painting as campers learn color mixing and the elements of design through color.
X-ALT-DESC;FMTTYPE=text/html:Dive into the world of color theory and painting as campers learn color mixing and the elements of design through color.
LOCATION:Colquitt County Arts Center 401 7th Avenue S.W. Moultrie\, GA 31768
UID:e.570.11358
SEQUENCE:3
DTSTAMP:20260424T081255Z
URL:http://business.moultriechamber.com/events/details/live-to-create-art-camp-paint-the-town-11358
END:VEVENT

END:VCALENDAR
