BEGIN:VCALENDAR
VERSION:2.0
PRODID:-//ChamberMaster//Event Calendar 2.0//EN
METHOD:PUBLISH
X-PUBLISHED-TTL:P3D
REFRESH-INTERVAL:P3D
CALSCALE:GREGORIAN
BEGIN:VEVENT
DTSTART:20210628T120000Z
DTEND:20210702T210000Z
X-MICROSOFT-CDO-ALLDAYEVENT:FALSE
SUMMARY:Live to Create Art Camp: Life Drawing
DESCRIPTION:Work on your drawing skills in this week of exploring animal drawings\, figure drawings\, and still life drawings using shadows and highlights and composition. Rising 3rd grade thru 6th grade Bring lunch and snack
X-ALT-DESC;FMTTYPE=text/html:Work on your drawing skills in this week of exploring animal drawings\, figure drawings\, and still life drawings using shadows and highlights and composition. Rising 3rd grade thru 6th grade Bring lunch and snack
LOCATION:Colquitt County Arts Center 401 7th Avenue S.W. Moultrie\, GA 31768
UID:e.570.11360
SEQUENCE:3
DTSTAMP:20260424T065112Z
URL:http://business.moultriechamber.com/events/details/live-to-create-art-camp-life-drawing-11360
END:VEVENT

END:VCALENDAR
