BEGIN:VCALENDAR
VERSION:2.0
PRODID:-//ChamberMaster//Event Calendar 2.0//EN
METHOD:PUBLISH
X-PUBLISHED-TTL:P3D
REFRESH-INTERVAL:P3D
CALSCALE:GREGORIAN
BEGIN:VEVENT
DTSTART:20210726T120000Z
DTEND:20210730T210000Z
X-MICROSOFT-CDO-ALLDAYEVENT:FALSE
SUMMARY:Live to Create Art Camp: Let’s Get Serious About Drawing
DESCRIPTION:Work on your drawing skills in this week of exploring realism\, perspective\, composition\, shadows and highlights\, and layering foreground and background\, and architecture. Rising 3rd grade thru 6th grade Bring lunch and snack
X-ALT-DESC;FMTTYPE=text/html:Work on your drawing skills in this week of exploring realism\, perspective\, composition\, shadows and highlights\, and layering foreground and background\, and architecture. Rising 3rd grade thru 6th grade Bring lunch and snack
LOCATION:Colquitt County Arts Center 401 7th Avenue S.W. Moultrie\, GA 31768
UID:e.570.11363
SEQUENCE:3
DTSTAMP:20260424T065612Z
URL:http://business.moultriechamber.com/events/details/live-to-create-art-camp-let-s-get-serious-about-drawing-11363
END:VEVENT

END:VCALENDAR
