BEGIN:VCALENDAR
VERSION:2.0
PRODID:-//ChamberMaster//Event Calendar 2.0//EN
METHOD:PUBLISH
X-PUBLISHED-TTL:P3D
REFRESH-INTERVAL:P3D
CALSCALE:GREGORIAN
BEGIN:VEVENT
DTSTART:20210621T120000Z
DTEND:20210625T210000Z
X-MICROSOFT-CDO-ALLDAYEVENT:FALSE
SUMMARY:Live to Create Art Camp: Know Your Artists
DESCRIPTION:Campers will take a look back at the artists who made the world what it is today. Campers will explore drawing\, painting\, and design through the lens of famous artists. Rising 3rd grade thru 6th grade Bring lunch and snack
X-ALT-DESC;FMTTYPE=text/html:Campers will take a look back at the artists who made the world what it is today. Campers will explore drawing\, painting\, and design through the lens of famous artists. Rising 3rd grade thru 6th grade Bring lunch and snack
LOCATION:Colquitt County Arts Center 401 7th Avenue S.W. Moultrie\, GA 31768
UID:e.570.11359
SEQUENCE:3
DTSTAMP:20260424T075900Z
URL:http://business.moultriechamber.com/events/details/live-to-create-art-camp-know-your-artists-11359
END:VEVENT

END:VCALENDAR
