BEGIN:VCALENDAR
VERSION:2.0
PRODID:-//ChamberMaster//Event Calendar 2.0//EN
METHOD:PUBLISH
X-PUBLISHED-TTL:P3D
REFRESH-INTERVAL:P3D
CALSCALE:GREGORIAN
BEGIN:VEVENT
DTSTART:20210607T120000Z
DTEND:20210611T210000Z
X-MICROSOFT-CDO-ALLDAYEVENT:FALSE
SUMMARY:Live to Create Art Camp: Foundations of Art
DESCRIPTION:Campers will be given the tools needed to be creative through learning the process of drawing line\, four basic shapes\, color\, composition and a variety of subjects throughout the week. Rising 3rd grade thru 6th grade Bring lunch and snack
X-ALT-DESC;FMTTYPE=text/html:Campers will be given the tools needed to be creative through learning the process of drawing line\, four basic shapes\, color\, composition and a variety of subjects throughout the week. Rising 3rd grade thru 6th grade Bring lunch and snack
LOCATION:Colquitt County Arts Center 401 7th Avenue S.W. Moultrie\, GA 31768
UID:e.570.11365
SEQUENCE:3
DTSTAMP:20260423T085037Z
URL:http://business.moultriechamber.com/events/details/live-to-create-art-camp-foundations-of-art-11365
END:VEVENT

END:VCALENDAR
