BEGIN:VCALENDAR
VERSION:2.0
PRODID:-//ChamberMaster//Event Calendar 2.0//EN
METHOD:PUBLISH
X-PUBLISHED-TTL:P3D
REFRESH-INTERVAL:P3D
CALSCALE:GREGORIAN
BEGIN:VEVENT
DTSTART:20210719T120000Z
DTEND:20210723T210000Z
X-MICROSOFT-CDO-ALLDAYEVENT:FALSE
SUMMARY:Live to Create Art Camp: Exploration in Dyes
DESCRIPTION:Campers will have a fun-filled week of exploring various types of dyes such as the ancient Asian practice of batik art all the way to modern tie-dying using leaves\, various fabrics\, and other natural elements. Rising 3rd grade thru 6th grade Bring lunch and snack
X-ALT-DESC;FMTTYPE=text/html:Campers will have a fun-filled week of exploring various types of dyes such as the ancient Asian practice of batik art all the way to modern tie-dying using leaves\, various fabrics\, and other natural elements. Rising 3rd grade thru 6th grade Bring lunch and snack
LOCATION:Colquitt County Arts Center 401 7th Avenue S.W. Moultrie\, GA 31768
UID:e.570.11362
SEQUENCE:3
DTSTAMP:20260420T063053Z
URL:http://business.moultriechamber.com/events/details/live-to-create-art-camp-exploration-in-dyes-11362
END:VEVENT

END:VCALENDAR
