BEGIN:VCALENDAR
VERSION:2.0
PRODID:-//ChamberMaster//Event Calendar 2.0//EN
METHOD:PUBLISH
X-PUBLISHED-TTL:P3D
REFRESH-INTERVAL:P3D
CALSCALE:GREGORIAN
BEGIN:VEVENT
DTSTART:20220406T191500Z
DTEND:20220406T200000Z
X-MICROSOFT-CDO-ALLDAYEVENT:FALSE
SUMMARY:Little Artists
DESCRIPTION:Artists ages 6-12 are welcome to join us for drawing\, painting\, crafts\, and fun.
X-ALT-DESC;FMTTYPE=text/html:Artists ages 6-12 are welcome to join us for drawing\, painting\, crafts\, and fun.
LOCATION:Indigo Studio 128 S. Main St.
UID:e.570.12103
SEQUENCE:3
DTSTAMP:20260423T204513Z
URL:http://business.moultriechamber.com/events/details/little-artists-12103
END:VEVENT

END:VCALENDAR
