BEGIN:VCALENDAR
VERSION:2.0
PRODID:-//ChamberMaster//Event Calendar 2.0//EN
METHOD:PUBLISH
X-PUBLISHED-TTL:P3D
REFRESH-INTERVAL:P3D
CALSCALE:GREGORIAN
BEGIN:VEVENT
DTSTART:20180718T140000Z
DTEND:20180718T150000Z
X-MICROSOFT-CDO-ALLDAYEVENT:FALSE
SUMMARY:Library Mouse’s Mouse-terpiece Theater
DESCRIPTION:Hear stories selected personally by our very own Library Mouse\, then make your own "mouse-terpiece" with Colquitt County Arts Center Staff.
X-ALT-DESC;FMTTYPE=text/html:Hear stories selected personally by our very own Library Mouse\, then make your own &ldquo\;mouse-terpiece&rdquo\; with Colquitt County Arts Center Staff.
LOCATION:Ryce Community Center\, 305 7th St.\, NW\, Moultrie
UID:e.570.9326
SEQUENCE:3
DTSTAMP:20260426T043250Z
URL:http://business.moultriechamber.com/events/details/library-mouse-s-mouse-terpiece-theater-07-18-2018-9326
END:VEVENT

END:VCALENDAR
