BEGIN:VCALENDAR
VERSION:2.0
PRODID:-//ChamberMaster//Event Calendar 2.0//EN
METHOD:PUBLISH
X-PUBLISHED-TTL:P3D
REFRESH-INTERVAL:P3D
CALSCALE:GREGORIAN
BEGIN:VEVENT
DTSTART:20220711T143000Z
DTEND:20220711T150000Z
X-MICROSOFT-CDO-ALLDAYEVENT:FALSE
SUMMARY:LEGO Masters: Disaster Island!
DESCRIPTION:Construct your own LEGO paradise\, then use your problem-solving skills when disaster strikes!
X-ALT-DESC;FMTTYPE=text/html:Construct your own LEGO paradise\, then use your problem-solving skills when disaster strikes!
LOCATION:Moultrie-Colquitt Library System 504 5th Street\, SE Moultrie\, Ga.
UID:e.570.12942
SEQUENCE:3
DTSTAMP:20260423T170350Z
URL:http://business.moultriechamber.com/events/details/lego-masters-disaster-island-12942
END:VEVENT

END:VCALENDAR
