BEGIN:VCALENDAR
VERSION:2.0
PRODID:-//ChamberMaster//Event Calendar 2.0//EN
METHOD:PUBLISH
X-PUBLISHED-TTL:P3D
REFRESH-INTERVAL:P3D
CALSCALE:GREGORIAN
BEGIN:VEVENT
DTSTART:20240701T143000Z
DTEND:20240701T153000Z
X-MICROSOFT-CDO-ALLDAYEVENT:FALSE
SUMMARY:LEGO Adventure Wheel Challenge
DESCRIPTION:Spin the wheel and choose an adventure to build with LEGO!
X-ALT-DESC;FMTTYPE=text/html:Spin the wheel and choose an adventure to build with LEGO!
LOCATION:Moultrie-Colquitt County Library 204 5th St SE\, Moultrie GA
UID:e.570.13287
SEQUENCE:3
DTSTAMP:20260422T103634Z
URL:http://business.moultriechamber.com/events/details/lego-adventure-wheel-challenge-13287
END:VEVENT

END:VCALENDAR
