BEGIN:VCALENDAR
VERSION:2.0
PRODID:-//ChamberMaster//Event Calendar 2.0//EN
METHOD:PUBLISH
X-PUBLISHED-TTL:P3D
REFRESH-INTERVAL:P3D
CALSCALE:GREGORIAN
BEGIN:VEVENT
DTSTART:20220708T140000Z
DTEND:20220708T140000Z
X-MICROSOFT-CDO-ALLDAYEVENT:FALSE
SUMMARY:Leaf Rubbing w Reed Bingham
DESCRIPTION:Bring the kids out for some leaf rubbing and coloring with Reed Bingham State Park.
X-ALT-DESC;FMTTYPE=text/html:Bring the kids out for some leaf rubbing and coloring with Reed Bingham State Park.
LOCATION:Main Street Park
UID:e.570.12936
SEQUENCE:3
DTSTAMP:20260423T155626Z
URL:http://business.moultriechamber.com/events/details/leaf-rubbing-w-reed-bingham-12936
END:VEVENT

END:VCALENDAR
