BEGIN:VCALENDAR
VERSION:2.0
PRODID:-//ChamberMaster//Event Calendar 2.0//EN
METHOD:PUBLISH
X-PUBLISHED-TTL:P3D
REFRESH-INTERVAL:P3D
CALSCALE:GREGORIAN
BEGIN:VEVENT
DTSTART:20180927T220000Z
DTEND:20180928T000000Z
X-MICROSOFT-CDO-ALLDAYEVENT:FALSE
SUMMARY:Last Thursday Workshop: Pumpkin Painting
DESCRIPTION:Usher in fall with a acrylic painted pumpkin patch on 12 12 canvas with Amanda Haxton of Painted Heart.
X-ALT-DESC;FMTTYPE=text/html:Usher in fall with a acrylic painted pumpkin patch on 12&times\;12 canvas with Amanda Haxton of Painted Heart.
LOCATION:Colquitt County Arts Center\, 401 7th Avenue S.W.\, Moultrie\, GA 31768
UID:e.570.9410
SEQUENCE:3
DTSTAMP:20260426T020901Z
URL:http://business.moultriechamber.com/events/details/last-thursday-workshop-pumpkin-painting-9410
END:VEVENT

END:VCALENDAR
