BEGIN:VCALENDAR
VERSION:2.0
PRODID:-//ChamberMaster//Event Calendar 2.0//EN
METHOD:PUBLISH
X-PUBLISHED-TTL:P3D
REFRESH-INTERVAL:P3D
CALSCALE:GREGORIAN
BEGIN:VEVENT
DTSTART:20190829T220000Z
DTEND:20190830T000000Z
X-MICROSOFT-CDO-ALLDAYEVENT:FALSE
SUMMARY:Last Thursday Workshop: Fruit Painting
DESCRIPTION:Fruit Painting Thursday\, August 29th 6:00 pm   8:00 pm $25 per student Invite some color into your space with delicious fruit painted by you! Follow along with Kathy Nelson as you paint on an 8 x 10 inch canvas.
X-ALT-DESC;FMTTYPE=text/html:Fruit Painting Thursday\, August 29th 6:00 pm &ndash\; 8:00 pm $25 per student Invite some color into your space with delicious fruit painted by you! Follow along with Kathy Nelson as you paint on an 8 x 10 inch canvas.
LOCATION:Colquitt County Arts Center 401 7th Avenue S.W. Moultrie\, GA
UID:e.570.9599
SEQUENCE:3
DTSTAMP:20260425T114032Z
URL:http://business.moultriechamber.com/events/details/last-thursday-workshop-fruit-painting-9599
END:VEVENT

END:VCALENDAR
