BEGIN:VCALENDAR
VERSION:2.0
PRODID:-//ChamberMaster//Event Calendar 2.0//EN
METHOD:PUBLISH
X-PUBLISHED-TTL:P3D
REFRESH-INTERVAL:P3D
CALSCALE:GREGORIAN
BEGIN:VEVENT
DTSTART:20181025T220000Z
DTEND:20181026T000000Z
X-MICROSOFT-CDO-ALLDAYEVENT:FALSE
SUMMARY:Last Thursday Workshop - Cotton Ornament
DESCRIPTION:Students will make 2-3 (or more) Ornaments using fresh picked cotton. Cotton and embellishments will be provided.
X-ALT-DESC;FMTTYPE=text/html:Students will make 2-3 (or more) Ornaments using fresh picked cotton. Cotton and embellishments will be provided.
LOCATION:Colquitt County Arts Center\, 401 7th Avenue S.W.\, Moultrie\, GA 31768
UID:e.570.9421
SEQUENCE:3
DTSTAMP:20260426T015224Z
URL:http://business.moultriechamber.com/events/details/last-thursday-workshop-cotton-ornament-9421
END:VEVENT

END:VCALENDAR
