BEGIN:VCALENDAR
VERSION:2.0
PRODID:-//ChamberMaster//Event Calendar 2.0//EN
METHOD:PUBLISH
X-PUBLISHED-TTL:P3D
REFRESH-INTERVAL:P3D
CALSCALE:GREGORIAN
BEGIN:VEVENT
DTSTART:20190226T230000Z
DTEND:20190227T010000Z
X-MICROSOFT-CDO-ALLDAYEVENT:FALSE
SUMMARY:Ladies Night Out in Red!
DESCRIPTION:Join us and dress up for a fun night out in red! We're bringing awareness to Cardiac Disease and how we as women can take control of our hearts. Cocktails and hors d'oeuvres Exciting door prizes Award given for the best dressed lady in red! Space is limited - $25.00 per ticket Call 229-890-3552 to purchase your ticket today! Colquitt Regional Medical Foundation Founds will receive a complimentary ticket. Founders - Please RSVP to mspradley@colquittregional.com or call 229-890-3552 to reserve your ticket.
X-ALT-DESC;FMTTYPE=text/html:Join us and dress up for a fun night out in red! We&#39\;re bringing awareness to Cardiac Disease and how we as women can take control of our hearts. Cocktails and hors d&#39\;oeuvres Exciting door prizes Award given for the best dressed lady in red! Space is limited - $25.00 per ticket Call 229-890-3552 to purchase your ticket today! Colquitt Regional Medical Foundation Founds will receive a complimentary ticket. Founders - Please RSVP to mspradley@colquittregional.com or call 229-890-3552 to reserve your ticket.
LOCATION:Sunset Country Club 2730 S Main St Moultrie\, GA
UID:e.570.9503
SEQUENCE:3
DTSTAMP:20260425T191008Z
URL:http://business.moultriechamber.com/events/details/ladies-night-out-in-red-9503
END:VEVENT

END:VCALENDAR
