BEGIN:VCALENDAR
VERSION:2.0
PRODID:-//ChamberMaster//Event Calendar 2.0//EN
METHOD:PUBLISH
X-PUBLISHED-TTL:P3D
REFRESH-INTERVAL:P3D
CALSCALE:GREGORIAN
BEGIN:VEVENT
DTSTART:20181018T130000Z
DTEND:20181021T200000Z
X-MICROSOFT-CDO-ALLDAYEVENT:FALSE
SUMMARY:Kitty Dodd - Colored Pencil Artist
DESCRIPTION:Kitty is a well know instructor and excellent colored pencil artist. She has been a guest artist for 3 workshops and we are pleased she will return to teach new techniques and review what we have learned in the past. Kitty gives above and beyond what is expected of her. Thursday will be a review day and introduction for new students. Friday - Sunday will hold new and exciting techniques. Don't miss this workshop.
X-ALT-DESC;FMTTYPE=text/html:Kitty is a well know instructor and excellent colored pencil artist. She has been a guest artist for 3 workshops and we are pleased she will return to teach new techniques and review what we have learned in the past. Kitty gives above and beyond what is expected of her. Thursday will be a review day and introduction for new students. Friday - Sunday will hold new and exciting techniques. Don&#39\;t miss this workshop.
LOCATION:Colquitt County Arts Center\, 401 7th Avenue S.W.\, Moultrie\, GA 31768
UID:e.570.9419
SEQUENCE:3
DTSTAMP:20260426T004434Z
URL:http://business.moultriechamber.com/events/details/kitty-dodd-colored-pencil-artist-9419
END:VEVENT

END:VCALENDAR
